BEGIN:VCALENDAR
VERSION:2.0
PRODID:-//Jayhawk Tennis Center - ECPv6.8.2//NONSGML v1.0//EN
CALSCALE:GREGORIAN
METHOD:PUBLISH
X-ORIGINAL-URL:https://jayhawktenniscenter.com
X-WR-CALDESC:Events for Jayhawk Tennis Center
REFRESH-INTERVAL;VALUE=DURATION:PT1H
X-Robots-Tag:noindex
X-PUBLISHED-TTL:PT1H
BEGIN:VTIMEZONE
TZID:America/Chicago
BEGIN:DAYLIGHT
TZOFFSETFROM:-0600
TZOFFSETTO:-0500
TZNAME:CDT
DTSTART:20250309T080000
END:DAYLIGHT
BEGIN:STANDARD
TZOFFSETFROM:-0500
TZOFFSETTO:-0600
TZNAME:CST
DTSTART:20251102T070000
END:STANDARD
END:VTIMEZONE
BEGIN:VEVENT
DTSTART;TZID=America/Chicago:20250502T080000
DTEND;TZID=America/Chicago:20250504T170000
DTSTAMP:20260419T081814
CREATED:20250325T162300Z
LAST-MODIFIED:20250325T162300Z
UID:29830-1746172800-1746378000@jayhawktenniscenter.com
SUMMARY:L6 HOA B12-14
DESCRIPTION:
URL:https://jayhawktenniscenter.com/event/l6-hoa-b12-14-2/
LOCATION:Clayview Country Club (Genesis) in Kansas City\, MO
CATEGORIES:Boys,L6,Missouri Valley,Tournaments
END:VEVENT
BEGIN:VEVENT
DTSTART;TZID=America/Chicago:20250502T080000
DTEND;TZID=America/Chicago:20250504T170000
DTSTAMP:20260419T081814
CREATED:20250325T163808Z
LAST-MODIFIED:20250325T163808Z
UID:29828-1746172800-1746378000@jayhawktenniscenter.com
SUMMARY:L6 HOA G12-18 May Mayhem
DESCRIPTION:
URL:https://jayhawktenniscenter.com/event/l6-hoa-g12-18-may-mayhem/
LOCATION:Genesis Merriam\, 6501 East Frontage Road\, Merriam\, KS\, 66202\, United States
CATEGORIES:Girls,L6,Missouri Valley
END:VEVENT
END:VCALENDAR