BEGIN:VCALENDAR
VERSION:2.0
PRODID:-//Jayhawk Tennis Center - ECPv6.8.2//NONSGML v1.0//EN
CALSCALE:GREGORIAN
METHOD:PUBLISH
X-ORIGINAL-URL:https://jayhawktenniscenter.com
X-WR-CALDESC:Events for Jayhawk Tennis Center
REFRESH-INTERVAL;VALUE=DURATION:PT1H
X-Robots-Tag:noindex
X-PUBLISHED-TTL:PT1H
BEGIN:VTIMEZONE
TZID:America/Chicago
BEGIN:DAYLIGHT
TZOFFSETFROM:-0600
TZOFFSETTO:-0500
TZNAME:CDT
DTSTART:20260308T080000
END:DAYLIGHT
BEGIN:STANDARD
TZOFFSETFROM:-0500
TZOFFSETTO:-0600
TZNAME:CST
DTSTART:20261101T070000
END:STANDARD
END:VTIMEZONE
BEGIN:VEVENT
DTSTART;TZID=America/Chicago:20260522T080000
DTEND;TZID=America/Chicago:20260524T170000
DTSTAMP:20260419T074148
CREATED:20260331T192911Z
LAST-MODIFIED:20260331T192911Z
UID:30773-1779436800-1779642000@jayhawktenniscenter.com
SUMMARY:L6: HOA Plaza BG12-18
DESCRIPTION:
URL:https://jayhawktenniscenter.com/event/l6-hoa-plaza-bg12-18/
LOCATION:Plaza Tennis Center 4747 Mill Creek Parkway\, 4747 Mill Creek Parkway\, Kansas City\, MO\, 64112-1627\, United States
CATEGORIES:Boys,Girls,L6,Missouri Valley,Tournaments
END:VEVENT
BEGIN:VEVENT
DTSTART;TZID=America/Chicago:20260523T080000
DTEND;TZID=America/Chicago:20260525T170000
DTSTAMP:20260419T074148
CREATED:20260331T193038Z
LAST-MODIFIED:20260331T193038Z
UID:30775-1779523200-1779728400@jayhawktenniscenter.com
SUMMARY:L5 Open: USTA MV BG16-18
DESCRIPTION:
URL:https://jayhawktenniscenter.com/event/l5-open-usta-mv-bg16-18-4/
LOCATION:Kossover Tennis Center\, 2500 SW Gage Blvd\, Topeka\, KS\, United States
CATEGORIES:Boys,Girls,L5,Missouri Valley,Tournaments
END:VEVENT
BEGIN:VEVENT
DTSTART;TZID=America/Chicago:20260523T080000
DTEND;TZID=America/Chicago:20260525T170000
DTSTAMP:20260419T074148
CREATED:20260331T195812Z
LAST-MODIFIED:20260331T195812Z
UID:30795-1779523200-1779728400@jayhawktenniscenter.com
SUMMARY:L5 Open: BG12-14
DESCRIPTION:
URL:https://jayhawktenniscenter.com/event/l5-open-bg12-14-2/
LOCATION:Ralph Wulz Riverside Tennis Center\, 551 NIMS\, Witchita\, KS\, 67203\, United States
CATEGORIES:Boys,Girls,L5,Missouri Valley,Tournaments
END:VEVENT
END:VCALENDAR