BEGIN:VCALENDAR
VERSION:2.0
PRODID:-//Jayhawk Tennis Center - ECPv6.8.2//NONSGML v1.0//EN
CALSCALE:GREGORIAN
METHOD:PUBLISH
X-ORIGINAL-URL:https://jayhawktenniscenter.com
X-WR-CALDESC:Events for Jayhawk Tennis Center
REFRESH-INTERVAL;VALUE=DURATION:PT1H
X-Robots-Tag:noindex
X-PUBLISHED-TTL:PT1H
BEGIN:VTIMEZONE
TZID:America/Chicago
BEGIN:DAYLIGHT
TZOFFSETFROM:-0600
TZOFFSETTO:-0500
TZNAME:CDT
DTSTART:20250309T080000
END:DAYLIGHT
BEGIN:STANDARD
TZOFFSETFROM:-0500
TZOFFSETTO:-0600
TZNAME:CST
DTSTART:20251102T070000
END:STANDARD
END:VTIMEZONE
BEGIN:VEVENT
DTSTART;TZID=America/Chicago:20251003T080000
DTEND;TZID=America/Chicago:20251005T170000
DTSTAMP:20260424T052827
CREATED:20250722T153607Z
LAST-MODIFIED:20250722T153607Z
UID:30152-1759478400-1759683600@jayhawktenniscenter.com
SUMMARY:L6: USTA HOA St. Joe B12-18\, G12-14
DESCRIPTION:
URL:https://jayhawktenniscenter.com/event/l6-usta-hoa-st-joe-b12-18-g12-14/
LOCATION:St. Joseph Parks & Recreation – Noyes Field Complex\, 26TH & NOYES\, St. Joseph\, MO\, 64505\, United States
CATEGORIES:Boys,Girls,L6,Missouri Valley
END:VEVENT
BEGIN:VEVENT
DTSTART;TZID=America/Chicago:20251003T080000
DTEND;TZID=America/Chicago:20251005T170000
DTSTAMP:20260424T052827
CREATED:20250722T153755Z
LAST-MODIFIED:20250722T153755Z
UID:30154-1759478400-1759683600@jayhawktenniscenter.com
SUMMARY:Jr. Circuit HOA BG10-14\, B18
DESCRIPTION:
URL:https://jayhawktenniscenter.com/event/jr-circuit-hoa-bg10-14-b18-2/
LOCATION:Genesis Health Clubs-Lawrence South\, 5200 Clinton Pkwy\, Lawrence\, KS
CATEGORIES:Boys,Girls,green ball,Junior Circuit,Missouri Valley,orange ball,yellow ball
END:VEVENT
BEGIN:VEVENT
DTSTART;TZID=America/Chicago:20251010T080000
DTEND;TZID=America/Chicago:20251012T170000
DTSTAMP:20260424T052827
CREATED:20250722T153946Z
LAST-MODIFIED:20250722T153946Z
UID:30156-1760083200-1760288400@jayhawktenniscenter.com
SUMMARY:L7 HOA BG 12-14\, B 16-18
DESCRIPTION:
URL:https://jayhawktenniscenter.com/event/l7-hoa-bg-12-14-b-16-18/
LOCATION:Clayview Country Club (Genesis) in Kansas City\, MO
CATEGORIES:Boys,Girls,L7,Missouri Valley
END:VEVENT
BEGIN:VEVENT
DTSTART;TZID=America/Chicago:20251011T080000
DTEND;TZID=America/Chicago:20251013T170000
DTSTAMP:20260424T052827
CREATED:20250722T161257Z
LAST-MODIFIED:20250722T162632Z
UID:30177-1760169600-1760374800@jayhawktenniscenter.com
SUMMARY:L2: Austin\, TX BG16
DESCRIPTION:The national tournament calendar is updating regularly for L1-L3 \nClick here to get details
URL:https://jayhawktenniscenter.com/event/l2-austin-tx-bg16/
LOCATION:St Stephen’s Episcopal School – DiLaura Tennis Academy\, 6500 SAINT STEPHENS DR\, Austin\, TX\, 78746\, United States
CATEGORIES:Boys,Girls,L2,National
END:VEVENT
BEGIN:VEVENT
DTSTART;TZID=America/Chicago:20251011T080000
DTEND;TZID=America/Chicago:20251013T170000
DTSTAMP:20260424T052827
CREATED:20250722T161430Z
LAST-MODIFIED:20250722T162657Z
UID:30179-1760169600-1760374800@jayhawktenniscenter.com
SUMMARY:L2: Austin\, TX BG14
DESCRIPTION:The national tournament calendar is updating regularly for L1-L3 \nClick here to get details
URL:https://jayhawktenniscenter.com/event/l2-austin-tx-bg14/
LOCATION:Austin Tennis Academy in Austin\, TX
CATEGORIES:Boys,Girls,L2,National
END:VEVENT
BEGIN:VEVENT
DTSTART;TZID=America/Chicago:20251011T080000
DTEND;TZID=America/Chicago:20251013T170000
DTSTAMP:20260424T052827
CREATED:20250722T161621Z
LAST-MODIFIED:20250722T162722Z
UID:30181-1760169600-1760374800@jayhawktenniscenter.com
SUMMARY:L2: Edmond\, OK BG 18
DESCRIPTION:The national tournament calendar is updating regularly for L1-L3 \nClick here to get details
URL:https://jayhawktenniscenter.com/event/l2-edmond-ok-bg-18/
LOCATION:Edmond Center Court in Edmond\, OK
CATEGORIES:Boys,Girls,L2,National
END:VEVENT
BEGIN:VEVENT
DTSTART;TZID=America/Chicago:20251011T080000
DTEND;TZID=America/Chicago:20251013T170000
DTSTAMP:20260424T052827
CREATED:20250722T161922Z
LAST-MODIFIED:20250722T162943Z
UID:30183-1760169600-1760374800@jayhawktenniscenter.com
SUMMARY:L2: Spring\, TX BG12
DESCRIPTION:The national tournament calendar is updating regularly for L1-L3 \nClick here to get details
URL:https://jayhawktenniscenter.com/event/l2-spring-tx-bg12/
LOCATION:Giammalva Racquet Club\, 16400 Sir William Dr\, Spring\, TX\, 77379-7641\, United States
CATEGORIES:Boys,Girls,L2,National
END:VEVENT
BEGIN:VEVENT
DTSTART;TZID=America/Chicago:20251018T080000
DTEND;TZID=America/Chicago:20251018T170000
DTSTAMP:20260424T052827
CREATED:20250722T154132Z
LAST-MODIFIED:20250722T182933Z
UID:30159-1760774400-1760806800@jayhawktenniscenter.com
SUMMARY:Jr Circuit: USTA HOA BG 10-18
DESCRIPTION:
URL:https://jayhawktenniscenter.com/event/jr-circuit-usta-hoa-bg-10-18/
LOCATION:Blue Hills Country Club in Kansas City\, MO
CATEGORIES:Boys,Girls,green ball,Junior Circuit,Missouri Valley,orange ball,yellow ball
END:VEVENT
BEGIN:VEVENT
DTSTART;TZID=America/Chicago:20251018T080000
DTEND;TZID=America/Chicago:20251020T170000
DTSTAMP:20260424T052827
CREATED:20250722T180237Z
LAST-MODIFIED:20250722T180237Z
UID:30218-1760774400-1760979600@jayhawktenniscenter.com
SUMMARY:L5 Open: USTA MV BG 12-18
DESCRIPTION:
URL:https://jayhawktenniscenter.com/event/l5-open-usta-mv-bg-12-18/
LOCATION:Lafortune Park Tennis Center in Tulsa\, OK
CATEGORIES:Boys,Girls,L5,Missouri Valley
END:VEVENT
BEGIN:VEVENT
DTSTART;TZID=America/Chicago:20251024T080000
DTEND;TZID=America/Chicago:20251025T170000
DTSTAMP:20260424T052827
CREATED:20250722T154333Z
LAST-MODIFIED:20250722T154333Z
UID:30161-1761292800-1761411600@jayhawktenniscenter.com
SUMMARY:L6 BG12-18 Doubles Only
DESCRIPTION:
URL:https://jayhawktenniscenter.com/event/l6-bg12-18-doubles-only/
LOCATION:Overland Park Racquet Club in Overland Park\, KS
CATEGORIES:Boys,Doubles Only,Girls,L6,Missouri Valley
END:VEVENT
BEGIN:VEVENT
DTSTART;TZID=America/Chicago:20251025T080000
DTEND;TZID=America/Chicago:20251027T170000
DTSTAMP:20260424T052827
CREATED:20250722T180710Z
LAST-MODIFIED:20250730T122234Z
UID:30220-1761379200-1761584400@jayhawktenniscenter.com
SUMMARY:L3 CLOSED USTA MV B12 #2
DESCRIPTION:
URL:https://jayhawktenniscenter.com/event/l3-lclosed-usta-mv-b12-2/
LOCATION:Life Time DMS in Des Moines\, IA
CATEGORIES:Boys,L3,Missouri Valley
END:VEVENT
BEGIN:VEVENT
DTSTART;TZID=America/Chicago:20251025T080000
DTEND;TZID=America/Chicago:20251027T170000
DTSTAMP:20260424T052827
CREATED:20250722T180823Z
LAST-MODIFIED:20250722T180823Z
UID:30222-1761379200-1761584400@jayhawktenniscenter.com
SUMMARY:L3 Closed: USTA MV B14 #2
DESCRIPTION:
URL:https://jayhawktenniscenter.com/event/l3-closed-usta-mv-b14-2-2/
LOCATION:Quad City Tennis Center\, 1522 47th Ave\, Moline\, IL\, 61265-7021\, United States
CATEGORIES:Boys,L3,Missouri Valley
END:VEVENT
BEGIN:VEVENT
DTSTART;TZID=America/Chicago:20251025T080000
DTEND;TZID=America/Chicago:20251027T170000
DTSTAMP:20260424T052827
CREATED:20250722T180953Z
LAST-MODIFIED:20250722T180953Z
UID:30224-1761379200-1761584400@jayhawktenniscenter.com
SUMMARY:L3 Closed: USTA MV B16 #2
DESCRIPTION:
URL:https://jayhawktenniscenter.com/event/l3-closed-usta-mv-b16-2-2/
LOCATION:Genesis Riverside (RH91) in Tulsa\, OK\, 3030 E 91st\, Tulsa\, OK\, 74112\, United States
CATEGORIES:Boys,L3,Missouri Valley
END:VEVENT
BEGIN:VEVENT
DTSTART;TZID=America/Chicago:20251025T080000
DTEND;TZID=America/Chicago:20251027T170000
DTSTAMP:20260424T052827
CREATED:20250722T181126Z
LAST-MODIFIED:20250722T181918Z
UID:30226-1761379200-1761584400@jayhawktenniscenter.com
SUMMARY:L3 Closed: USTA MV B18 #2
DESCRIPTION:
URL:https://jayhawktenniscenter.com/event/l3-closed-usta-mv-b18-2-2/
LOCATION:Genesis Westroads in Omaha\, NE
CATEGORIES:Boys,L3,Missouri Valley
END:VEVENT
END:VCALENDAR