BEGIN:VCALENDAR
VERSION:2.0
PRODID:-//Jayhawk Tennis Center - ECPv6.8.2//NONSGML v1.0//EN
CALSCALE:GREGORIAN
METHOD:PUBLISH
X-ORIGINAL-URL:https://jayhawktenniscenter.com
X-WR-CALDESC:Events for Jayhawk Tennis Center
REFRESH-INTERVAL;VALUE=DURATION:PT1H
X-Robots-Tag:noindex
X-PUBLISHED-TTL:PT1H
BEGIN:VTIMEZONE
TZID:America/Chicago
BEGIN:DAYLIGHT
TZOFFSETFROM:-0600
TZOFFSETTO:-0500
TZNAME:CDT
DTSTART:20250309T080000
END:DAYLIGHT
BEGIN:STANDARD
TZOFFSETFROM:-0500
TZOFFSETTO:-0600
TZNAME:CST
DTSTART:20251102T070000
END:STANDARD
END:VTIMEZONE
BEGIN:VEVENT
DTSTART;TZID=America/Chicago:20250913T080000
DTEND;TZID=America/Chicago:20250915T170000
DTSTAMP:20260422T095802
CREATED:20250603T142157Z
LAST-MODIFIED:20250603T142213Z
UID:30110-1757750400-1757955600@jayhawktenniscenter.com
SUMMARY:L3 Open: BG 16s Boulder\, CO
DESCRIPTION:
URL:https://jayhawktenniscenter.com/event/l3open-bg-16s-boulder-co/
LOCATION:University of Colorado\, 4950 TABLE MESA DRIVE\, Bolder\, CO\, United States
CATEGORIES:Boys,Girls,L3,National
END:VEVENT
BEGIN:VEVENT
DTSTART;TZID=America/Chicago:20250913T080000
DTEND;TZID=America/Chicago:20250915T170000
DTSTAMP:20260422T095802
CREATED:20250603T142340Z
LAST-MODIFIED:20250603T142340Z
UID:30113-1757750400-1757955600@jayhawktenniscenter.com
SUMMARY:L3 Open: BG 14-16 Grand Rapids\, MI
DESCRIPTION:
URL:https://jayhawktenniscenter.com/event/l3-open-bg-14-16-grand-rapids-mi/
LOCATION:Gainey Athletic Center\, 1661 EAST PARIS AVE SE\, Grand Rapids\, MI\, 49546\, United States
CATEGORIES:Boys,Girls,L3,National
END:VEVENT
BEGIN:VEVENT
DTSTART;TZID=America/Chicago:20250913T080000
DTEND;TZID=America/Chicago:20250915T170000
DTSTAMP:20260422T095802
CREATED:20250603T142529Z
LAST-MODIFIED:20250603T142529Z
UID:30115-1757750400-1757955600@jayhawktenniscenter.com
SUMMARY:L3 Open: BG 14 St Louis\, MO - Dominant Duo
DESCRIPTION:
URL:https://jayhawktenniscenter.com/event/l3-open-bg-14-st-louis-mo-dominant-duo/
LOCATION:Dwight Davis Tennis Center in St. Louis\, MO
CATEGORIES:Boys,Girls,L3,National,Team Event
END:VEVENT
BEGIN:VEVENT
DTSTART;TZID=America/Chicago:20250913T080000
DTEND;TZID=America/Chicago:20250915T170000
DTSTAMP:20260422T095802
CREATED:20250603T142701Z
LAST-MODIFIED:20250603T142701Z
UID:30117-1757750400-1757955600@jayhawktenniscenter.com
SUMMARY:L3 Open: BG12-18 Las Vegas\, NV
DESCRIPTION:
URL:https://jayhawktenniscenter.com/event/l3-open-bg12-18-las-vegas-nv/
LOCATION:Darling Memorial Tennis Center in Las Vegas\, NV
CATEGORIES:Boys,Girls,L3,National
END:VEVENT
BEGIN:VEVENT
DTSTART;TZID=America/Chicago:20250913T080000
DTEND;TZID=America/Chicago:20250915T170000
DTSTAMP:20260422T095802
CREATED:20250603T142846Z
LAST-MODIFIED:20250603T142846Z
UID:30120-1757750400-1757955600@jayhawktenniscenter.com
SUMMARY:L3 Open: BG 16 Edmond\, OK Dominant Duo
DESCRIPTION:
URL:https://jayhawktenniscenter.com/event/l3-open-bg-16-edmond-ok-dominant-duo/
LOCATION:Edmond Center Court in Edmond\, OK
CATEGORIES:Boys,Doubles,Girls,L3,National
END:VEVENT
BEGIN:VEVENT
DTSTART;TZID=America/Chicago:20250913T080000
DTEND;TZID=America/Chicago:20250915T170000
DTSTAMP:20260422T095802
CREATED:20250603T143816Z
LAST-MODIFIED:20250603T143816Z
UID:30123-1757750400-1757955600@jayhawktenniscenter.com
SUMMARY:L3 Open: BG 12 Omaha\, NE
DESCRIPTION:
URL:https://jayhawktenniscenter.com/event/l3-open-bg-12-omaha-ne/
LOCATION:Koch Tennis Center in Omaha\, NE
CATEGORIES:Boys,Girls,L3,National
END:VEVENT
BEGIN:VEVENT
DTSTART;TZID=America/Chicago:20250913T080000
DTEND;TZID=America/Chicago:20250916T170000
DTSTAMP:20260422T095802
CREATED:20250722T152401Z
LAST-MODIFIED:20250722T152401Z
UID:30141-1757750400-1758042000@jayhawktenniscenter.com
SUMMARY:L7: USTA HOA Dom Duo B12-18s
DESCRIPTION:
URL:https://jayhawktenniscenter.com/event/l7-usta-hoa-dom-duo-b12-18s/
LOCATION:Blue Hills Country Club\, 777 W Burning Tree Dr\, Kansas City\, MO
CATEGORIES:Boys,Doubles,L7,Missouri Valley
END:VEVENT
END:VCALENDAR